BEGIN:VCALENDAR
VERSION:2.0
PRODID:-//La Nativa - ECPv6.15.20//NONSGML v1.0//EN
CALSCALE:GREGORIAN
METHOD:PUBLISH
X-ORIGINAL-URL:https://lanativa.ch
X-WR-CALDESC:Évènements pour La Nativa
REFRESH-INTERVAL;VALUE=DURATION:PT1H
X-Robots-Tag:noindex
X-PUBLISHED-TTL:PT1H
BEGIN:VTIMEZONE
TZID:Europe/Zurich
BEGIN:DAYLIGHT
TZOFFSETFROM:+0100
TZOFFSETTO:+0200
TZNAME:CEST
DTSTART:20250330T010000
END:DAYLIGHT
BEGIN:STANDARD
TZOFFSETFROM:+0200
TZOFFSETTO:+0100
TZNAME:CET
DTSTART:20251026T010000
END:STANDARD
BEGIN:DAYLIGHT
TZOFFSETFROM:+0100
TZOFFSETTO:+0200
TZNAME:CEST
DTSTART:20260329T010000
END:DAYLIGHT
BEGIN:STANDARD
TZOFFSETFROM:+0200
TZOFFSETTO:+0100
TZNAME:CET
DTSTART:20261025T010000
END:STANDARD
BEGIN:DAYLIGHT
TZOFFSETFROM:+0100
TZOFFSETTO:+0200
TZNAME:CEST
DTSTART:20270328T010000
END:DAYLIGHT
BEGIN:STANDARD
TZOFFSETFROM:+0200
TZOFFSETTO:+0100
TZNAME:CET
DTSTART:20271031T010000
END:STANDARD
END:VTIMEZONE
BEGIN:VEVENT
DTSTART;TZID=Europe/Zurich:20260602T180000
DTEND;TZID=Europe/Zurich:20260602T230000
DTSTAMP:20260422T003651
CREATED:20260314T235930Z
LAST-MODIFIED:20260403T134113Z
UID:2401-1780423200-1780441200@lanativa.ch
SUMMARY:166e Noche Mágica — La Lune bleue: double floraison🔮✨
DESCRIPTION:La Noche Mágica\, c’est la soirée ésotérique emblématique de La Nativa. Un rendez-vous pour celles et ceux qui ont envie de rencontrer le monde ésotérique et invisible  dans un espace chaleureux et bienveillant\, où tout devient possible. Le temps d’une soirée tu prépares tes questions\, tu te fais tirer le tarot et tu débriefs avec tes copines autour d’un spritz à la rose 🌹✨ \nSur place\, des thérapeutes que j’aime appeler des magiciens t’accueillent pour des séances individuelles de 15 minutes à 20 CHF : tarot\, astrologie\, soins énergétiques… Les pratiques varient à chaque édition\, pour une expérience toujours unique et surprenante. \nIl y a quelque chose de particulier dans le fait de revenir chaque mardi à La Noche Mágica. Comme si à chaque édition\, on ajoutait une couche de compréhension. Un mot de plus dans un langage qu’on est en train d’apprendre ensemble — celui du monde invisible\, des cycles astrologiques\, des énergies qui nous traversent. \nParce que c’est exactement ça\, La Noche Mágica : une soirée ésotérique presque hebdomadaire où on explore un thème différent à chaque fois pour approfondir ce langage. Pour que les étoiles\, les cartes\, les planètes cessent d’être des concepts flous et deviennent des outils. Des boussoles intérieures. Parce que la connaissance\, c’est la clé de tout. \nPlus on comprend les énergies en jeu\, plus on est capable de se faire confiance. D’écouter son instinct. De se rapprocher toujours plus de soi-même. Parce qu’à la fin\, notre plus grande responsabilité sur cette terre\, c’est de prendre soin de nous-mêmes et d’être le plus aligné possible. \nLes séances individuelles sont là pour enrichir ta réflexion — pas pour la remplacer. Le ou la magicienne te donne des clés. C’est toi qui ouvres les portes. Tu restes souverain·e. Tout est toujours en mouvement — respecte ton intuition\, respecte ton âme. 🌿 \nIl y a deux jours\, une Lune Bleue en Sagittaire — la deuxième pleine lune du mois de mai\, un phénomène rare qui arrive environ tous les deux ou trois ans. Une deuxième pleine lune dans le même mois\, c’est comme une deuxième chance offerte par le ciel. Une invitation à revenir sur quelque chose qu’on croyait avoir déjà traversé. Une chose qui revient — non pas pour faire mal à nouveau\, mais pour offrir une lecture différente. Plus douce. Plus sage. Plus complète. \nLe Sagittaire\, c’est le signe du sens\, de la quête\, du voyage intérieur. Il ne se contente pas de vivre — il cherche à comprendre pourquoi. Ce soir\, la question n’est pas « qu’est-ce qui m’est arrivé ? » mais « qu’est-ce que ça m’a enseigné ? » \nIl y a peut-être quelque chose dans ta vie qui a déjà fleuri une première fois — un amour\, un projet\, une version de toi. Et qui est en train de fleurir une deuxième fois\, autrement. Plus fort. Plus ancré. Avec la sagesse de tout ce qui s’est passé entre les deux. 🌱 \nQu’est-ce qui fleurit deux fois dans ta vie en ce moment ? Quelle deuxième chance le ciel t’offre ? Qu’est-ce qui revient — pas pour te faire souffrir\, mais pour s’épanouir pour de bon ? 🔮 \nOuverture des portes à 18h 🕯️ La soirée commencera à 18h30 par une interlude-conférence pour poser le cadre : comprendre cette énergie de Lune Bleue\, les deuxièmes chances\, les retours qui ne sont pas des régressions mais des spirales vers le haut 🎤 \nPuis place aux séances individuelles. Des disciplines variées pour explorer tes cycles\, tes retours\, tes secondes floraisons. Ce sera l’occasion de poser toutes tes questions sur ce qui revient dans ta vie et ce que ça signifie vraiment. On va regarder ça ensemble 🔮 \nViens avec tes copines. Boire un spritz curaçao 💙🍊 — cette couleur folle\, ce goût inattendu\, ce truc qui surprend à chaque gorgée. Comme une deuxième chance qu’on n’avait pas vue venir. Et repartir avec des clés — pas des réponses — pour traverser tes deuxièmes chances comme une queen de la renaissance 🌸👑 \nInfos Pratiques \n📍 Mardi 2 juin  \n🕕 Ouverture des portes à 18h \n🎟️ 25 CHF (une boisson incluse) — ticket ci-dessous \n🔮 Séances individuelles : 15 min — 20 CHF (à payer sur place en cash ou twint) \n🎤 Interlude-conférence de 18h30 à 19h00 \nAu plaisir d’explorer avec toi cette deuxième chance. \nDes bisous\, Laura 💋
URL:https://lanativa.ch/event/166e-noche-magica-la-lune-bleue-double-floraison%f0%9f%94%ae%e2%9c%a8/
LOCATION:La Nativa\, Rue Marguerite-Dellenbach 5\, Geneva\, Canton de Genève\, 1205\, Switzerland
CATEGORIES:Spiritualité
ATTACH;FMTTYPE=image/jpeg:https://lanativa.ch/wp-content/uploads/2026/03/banner-lune.jpg
ORGANIZER;CN="Laura Febo":MAILTO:hola@lanativa.ch
END:VEVENT
BEGIN:VEVENT
DTSTART;TZID=Europe/Zurich:20260609T180000
DTEND;TZID=Europe/Zurich:20260609T230000
DTSTAMP:20260422T003651
CREATED:20260315T001644Z
LAST-MODIFIED:20260403T133959Z
UID:2405-1781028000-1781046000@lanativa.ch
SUMMARY:167e Noche Mágica — Ombre & Lumière 🔮✨
DESCRIPTION:La Noche Mágica\, c’est la soirée ésotérique emblématique de La Nativa. Un rendez-vous pour celles et ceux qui ont envie de rencontrer le monde ésotérique et invisible  dans un espace chaleureux et bienveillant\, où tout devient possible. Le temps d’une soirée tu prépares tes questions\, tu te fais tirer le tarot et tu débriefs avec tes copines autour d’un spritz à la rose 🌹✨ \nSur place\, des thérapeutes que j’aime appeler des magiciens t’accueillent pour des séances individuelles de 15 minutes à 20 CHF : tarot\, astrologie\, soins énergétiques… Les pratiques varient à chaque édition\, pour une expérience toujours unique et surprenante. \nLa Noche Mágica est née d’une conviction simple : on ne peut pas vraiment se connaître si on ne connaît pas les énergies qui nous traversent. Les cycles de la lune. Les mouvements des planètes. Les saisons du monde invisible. Et cette connaissance-là\, elle ne s’apprend pas seule dans un livre — elle se vit\, elle se partage\, elle s’incarne dans une soirée comme celle-ci. \nChaque mardi\, un thème. Chaque thème\, une invitation à aller plus loin dans sa compréhension du monde spirituel et astrologique. Parce que la connaissance\, c’est la clé de tout. Pas pour avoir des réponses toutes faites — mais pour avoir une meilleure écoute. Celle de l’instinct. Celle de l’intuition. Celle qui te ramène toujours à toi-même. \nParce qu’à la fin\, notre plus grande responsabilité sur cette terre\, c’est de prendre soin de nous-mêmes et d’être le plus aligné possible. \nEt les séances individuelles sont là pour ça : t’accompagner\, t’ouvrir des pistes\, te donner des clés. Pas pour décider à ta place. Tu restes souverain·e. Tout est toujours en mouvement — un jour une carte\, l’autre une autre. Respecte ton intuition. Respecte ton âme. 🌿 \nDans douze jours\, le solstice d’été. Le moment de l’année où la lumière est à son maximum absolu. La nuit la plus courte. Le jour le plus long. La plénitude solaire. Et ce soir\, on est dans cet espace d’avant — cette période de montée\, de tension douce\, de quelque chose qui se prépare sans encore éclater. \nLe Cancer approche doucement — le signe de l’intériorité\, des racines\, de ce qu’on porte depuis l’enfance sans toujours le savoir. Et Mercure commence déjà à ralentir avant sa prochaine rétrogradation — une invitation à entrer dans un temps plus lent\, plus réfléchi\, plus attentif aux murmures. \nParce qu’avant la grande lumière\, il y a toujours ce moment silencieux. Cet espace entre le « pas encore » et le « déjà ». Ce temps suspendu où on sent que quelque chose de grand s’approche — dans le ciel\, dans le monde\, en soi. \nCe soir : qu’est-ce que tu veux emporter avec toi dans la lumière de l’été ? Qu’est-ce que tu choisis de mettre en pleine clarté — et qu’est-ce que tu choisis de laisser dans l’ombre\, pour toujours ? 🌙 \nOuverture des portes à 18h 🕯️ La soirée commencera à 18h30 par une interlude-conférence pour poser le cadre : comprendre cette énergie d’avant le solstice\, ce temps de préparation et d’intention\, ce que le ciel nous invite à choisir avant la grande lumière de l’été 🎤 \nPuis place aux séances individuelles. Des disciplines variées pour explorer tes intentions de saison\, tes racines\, ce que tu protèges et ce que tu oses enfin montrer. Ce sera l’occasion de poser toutes tes questions sur ce que tu veux voir fleurir cet été. On va regarder ça ensemble 🔮 \nViens avec tes copines. Boire un spritz gingembre 🫚✨ — ce pétillant qui réchauffe de l’intérieur\, qui prépare le corps à la chaleur qui s’approche. Parce qu’avant la grande lumière\, on se prépare en douceur. Et repartir avec des clés — pas des réponses — pour traverser ce solstice comme une queen de la clarté ☀️👑 \nInfos Pratiques \n📍 Mardi 9 juin  \n🕕 Ouverture des portes à 18h \n🎟️ 25 CHF (une boisson incluse) — ticket ci-dessous \n🔮 Séances individuelles : 15 min — 20 CHF (à payer sur place en cash ou twint) \n🎤 Interlude-conférence de 18h30 à 19h00 \nAu plaisir d’explorer les ombres et les lumières avec chacun! \nDes bisous\, Laura 💋
URL:https://lanativa.ch/event/167e-noche-magica-ombre-lumiere-%f0%9f%94%ae%e2%9c%a8/
LOCATION:La Nativa\, Rue Marguerite-Dellenbach 5\, Geneva\, Canton de Genève\, 1205\, Switzerland
CATEGORIES:Spiritualité
ATTACH;FMTTYPE=image/jpeg:https://lanativa.ch/wp-content/uploads/2026/03/banner-ombre-1.jpg
ORGANIZER;CN="Laura Febo":MAILTO:hola@lanativa.ch
END:VEVENT
BEGIN:VEVENT
DTSTART;TZID=Europe/Zurich:20260616T180000
DTEND;TZID=Europe/Zurich:20260616T230000
DTSTAMP:20260422T003651
CREATED:20260315T003843Z
LAST-MODIFIED:20260403T133806Z
UID:2413-1781632800-1781650800@lanativa.ch
SUMMARY:168e Noche Mágica — Le Solstice & l’Intuition 🔮✨
DESCRIPTION:La Noche Mágica\, c’est la soirée ésotérique emblématique de La Nativa. Un rendez-vous pour celles et ceux qui ont envie de rencontrer le monde ésotérique et invisible  dans un espace chaleureux et bienveillant\, où tout devient possible. Le temps d’une soirée tu prépares tes questions\, tu te fais tirer le tarot et tu débriefs avec tes copines autour d’un spritz à la rose 🌹✨ \nSur place\, des thérapeutes que j’aime appeler des magiciens t’accueillent pour des séances individuelles de 15 minutes à 20 CHF : tarot\, astrologie\, soins énergétiques… Les pratiques varient à chaque édition\, pour une expérience toujours unique et surprenante. \nQu’est-ce qui se passe quand on commence à vraiment écouter ? Pas écouter les autres — s’écouter soi. Cette voix intérieure qui sait\, même quand la tête dit le contraire. Cette intuition qui arrive sans s’expliquer. Ce ressenti dans le ventre qui dit « oui » ou « non » avant même qu’on ait fini de réfléchir. \nC’est ce qu’on entraîne ensemble\, chaque mardi\, à La Noche Mágica. Cette soirée ésotérique où on explore un thème différent pour approfondir notre connaissance des mouvements astrologiques\, du monde spirituel\, de ce qui nous dépasse et nous constitue à la fois. Parce que la connaissance\, c’est la clé de tout — elle affine l’écoute\, elle donne un langage à ce qu’on ressent\, elle rapproche de soi. \nSe rapprocher toujours plus de soi-même. Apprendre à se faire confiance. Être le plus aligné possible. C’est notre plus grande responsabilité sur cette terre. \nLes séances individuelles avec les magiciens sont là pour enrichir ce chemin — pas le tracer à ta place. Le ou la magicienne te donne des clés. Tu gardes la main sur tes décisions. Tout bouge toujours. Respecte ton intuition. Respecte ton âme. 🌿 \nHier\, la Super Nouvelle Lune en Gémeaux — la nouvelle lune la plus proche de la Terre de toute l’année. La lune était au plus près de nous. Dans le signe des Gémeaux\, avec Uranus et Jupiter déjà installés là depuis plusieurs semaines. Triple énergie de communication\, de curiosité\, d’intelligence vive. Et Mercure qui commence à ralentir\, à murmurer plutôt qu’à parler fort. \nQuand la lune est au plus proche\, quelque chose se resserre. Quelque chose devient net. Comme si le ciel se penchait vers toi pour te dire quelque chose à l’oreille. \nTu as déjà eu l’impression que l’univers essayait de te parler ? Pas de manière dramatique — pas de tonnerre ni de signe écrit en grandes lettres dans le ciel. Mais de manière subtile. Une coïncidence de trop pour être un hasard. Un mot qui revient trois fois dans la même journée. Un rêve. Une intuition qui ne s’explique pas mais qui insiste. 🌙 \nCe soir\, on s’entraîne à écouter ça. Vraiment écouter. Dans le silence entre les bruits. Dans l’espace entre les pensées. Dans ce moment où tu fais taire le rationnel deux minutes et tu laisses l’invisible parler. \nQu’est-ce que le ciel te murmure au plus proche en ce moment ? Quels signes as-tu peut-être négligé d’entendre ? Qu’est-ce qui cherche à te rejoindre\, si tu veux bien tendre l’oreille ? 🔮 \nOuverture des portes à 18h 🕯️ La soirée commencera à 18h30 par une interlude-conférence pour poser le cadre : comprendre cette énergie de Super Nouvelle Lune en Gémeaux\, comment lire les synchronicités\, comment cultiver l’écoute de ce qui ne se dit pas à voix haute 🎤 \nPuis place aux séances individuelles. Des disciplines variées pour décrypter les messages\, lire les signes\, accueillir ce que l’invisible cherche à transmettre. Ce sera l’occasion de poser toutes tes questions sur ce que tu reçois\, ce que tu sens\, ce que tu n’oses pas encore croire. On va regarder ça ensemble 🔮 \nViens avec tes copines. Boire un spritz amaretto 🌰✨ — doux\, chaleureux\, enveloppant. Comme quand on écoute vraiment quelque chose de subtil et qu’on sent que c’est juste. Et repartir avec des clés — pas des réponses — pour capter les messages du ciel comme une queen des synchronicités 📡👑 \nInfos pratiques \n📍 Mardi 16 juin  \n🕕 Ouverture des portes à 18h \n🎟️ 25 CHF (une boisson incluse) — ticket ci-dessous \n🔮 Séances individuelles : 15 min — 20 CHF (à payer sur place en cash ou twint) \n🎤 Interlude-conférence de 18h30 à 19h00 \n  \nAu plaisir de murmurer ensemble à l’oreille de l’univers \nDes bisous\, Laura 💋
URL:https://lanativa.ch/event/168e-noche-magica-le-solstice-lintuition-%f0%9f%94%ae%e2%9c%a8/
LOCATION:La Nativa\, Rue Marguerite-Dellenbach 5\, Geneva\, Canton de Genève\, 1205\, Switzerland
CATEGORIES:Spiritualité
ATTACH;FMTTYPE=image/jpeg:https://lanativa.ch/wp-content/uploads/2026/03/banner-solstice.jpg
ORGANIZER;CN="Laura Febo":MAILTO:hola@lanativa.ch
END:VEVENT
END:VCALENDAR