BEGIN:VCALENDAR
VERSION:2.0
PRODID:-//La Nativa - ECPv6.15.20//NONSGML v1.0//EN
CALSCALE:GREGORIAN
METHOD:PUBLISH
X-ORIGINAL-URL:https://lanativa.ch
X-WR-CALDESC:Évènements pour La Nativa
REFRESH-INTERVAL;VALUE=DURATION:PT1H
X-Robots-Tag:noindex
X-PUBLISHED-TTL:PT1H
BEGIN:VTIMEZONE
TZID:Europe/Zurich
BEGIN:DAYLIGHT
TZOFFSETFROM:+0100
TZOFFSETTO:+0200
TZNAME:CEST
DTSTART:20250330T010000
END:DAYLIGHT
BEGIN:STANDARD
TZOFFSETFROM:+0200
TZOFFSETTO:+0100
TZNAME:CET
DTSTART:20251026T010000
END:STANDARD
BEGIN:DAYLIGHT
TZOFFSETFROM:+0100
TZOFFSETTO:+0200
TZNAME:CEST
DTSTART:20260329T010000
END:DAYLIGHT
BEGIN:STANDARD
TZOFFSETFROM:+0200
TZOFFSETTO:+0100
TZNAME:CET
DTSTART:20261025T010000
END:STANDARD
BEGIN:DAYLIGHT
TZOFFSETFROM:+0100
TZOFFSETTO:+0200
TZNAME:CEST
DTSTART:20270328T010000
END:DAYLIGHT
BEGIN:STANDARD
TZOFFSETFROM:+0200
TZOFFSETTO:+0100
TZNAME:CET
DTSTART:20271031T010000
END:STANDARD
END:VTIMEZONE
BEGIN:VEVENT
DTSTART;TZID=Europe/Zurich:20260303T180000
DTEND;TZID=Europe/Zurich:20260303T230000
DTSTAMP:20260421T231025
CREATED:20260225T191008Z
LAST-MODIFIED:20260306T150818Z
UID:2186-1772560800-1772578800@lanativa.ch
SUMMARY:La Noche Mágica — Cheval de Feu
DESCRIPTION:La Noche Mágica 🔮✨\, c’est “THE” soirée ésotérique emblématique de La Nativa. Elle s’adapte au nouveau concept de La Nativa (La Maison d’Evénements) et devient encore plus puissante et impactante! \nUn rendez-vous devenu culte pour toutes celles et ceux qui aiment explorer l’invisible\, poser des questions profondes et comprendre un peu mieux les mouvements subtils qui nous traversent… et qui parfois nous secouent bien comme il faut 🔥 \nLe 3 mars\, nous entrons dans une édition spéciale placée sous le signe du Cheval de Feu 🐎🔥 \nNous sommes officiellement entrés dans une nouvelle année avec le Nouvel An chinois du 17 février 🏮\nUne année qui promet de beaucoup bouger.\nUne année 1.\nUne année d’élan.\nUne année de démarrage.\nUne année d’initiations. \nUne année où ça part.\nOù ça tranche.\nOù ça décide. \nMais concrètement… qu’est-ce que cela signifie pour nous\, petits humains sur cette terre ? 🌍 \nQu’est-ce qui se joue énergétiquement ?\nQu’est-ce que ça vient bousculer ?\nQu’est-ce que ça vient allumer en nous ? 🔥 \nQuels sont les tenants et aboutissants de cette année une\, Cheval de Feu ?\nEst-ce que ça va nous demander du courage ? (oui)\nEst-ce que ça va nous pousser à sortir de notre zone de confort ? (re-oui)\nEst-ce que ça va nous inviter à oser ? (mille fois oui) \nLa Nativa vous accueillera à partir de 18h 🕯️\nLa soirée commencera à 18h30 par une interlude-conférence pour poser le cadre : comprendre cette nouvelle dynamique\, cette impulsion de feu\, cette énergie de mouvement\, cette vibration qui dit “avance” même quand tu hésites 🎤🔥 \nPuis place aux séances individuelles. \nTrois magiciens seront présents — leurs identités resteront secrètes jusqu’à la dernière minute.\nParce que le mystère fait partie du voyage.\nParce que l’invisible aime se dévoiler doucement.\nParce que la magie\, ça ne s’annonce pas… ça se vit ✨ \nLes séances durent 15 minutes et sont au prix de 20 CHF\, à régler directement auprès des magiciens.\nCe sera l’occasion de poser toutes tes questions en lien avec cette année une\, ce Cheval de Feu\, et ce que cela vient réveiller dans ta vie.\nAmour ?\nBusiness ?\nMission ?\nGrand saut intérieur ? \nOn va regarder ça ensemble 🔮 \nInfos pratiques \n📍 Lundi 3 mars\n🕕 18h – 23h\n🎟️ 25 CHF (une boisson incluse) à payer sur place. Toutes les personnes présentes doivent payer l’entrée même si elles ne font pas de séance.\n📲 Réservation par wpp au +41779440809\n🔮 Séances individuelles : 15 minutes — 20 CHF (paiement direct aux magiciens)\n🎤 Interlude-conférence à 18h30 \nEt comme toujours\, l’ambiance sera chaleureuse\, intime\, presque hors du temps 🕯️✨\nOn se retrouve dans cette bulle un peu suspendue où les discussions deviennent profondes\, où les regards brillent\, où les prises de conscience arrivent sans prévenir. \nViens avec tes copines.\nBoire des spritz à la rose (je suis désolée mais ça reste quand même mon meilleur cocktail 🌹🍹).\nOuvrir tes perceptions\, élargir tes horizons\, te laisser surprendre.\nEt repartir avec des clés concrètes pour naviguer cette nouvelle année comme une queen du feu 🔥👑 \nUne soirée pour comprendre.\nPour ressentir.\nPour activer.\nPour avancer avec le Cheval de Feu 🐎🔥✨ \nSee you on Tuesday for more mystical nights!\nJe ne sais pas pourquoi je parle anglais\, mais voilà\, ça doit être mon cheval de feu intérieur qui galope sans filtre 😅🔥 \nBisous\,\nLaura 💋
URL:https://lanativa.ch/event/03-03-la-noche-magica-cheval-de-feu/
LOCATION:Canton de Genève
CATEGORIES:Spiritualité
ATTACH;FMTTYPE=image/png:https://lanativa.ch/wp-content/uploads/2026/02/Banner-event-10.png
END:VEVENT
BEGIN:VEVENT
DTSTART;TZID=Europe/Zurich:20260317T180000
DTEND;TZID=Europe/Zurich:20260317T230000
DTSTAMP:20260421T231025
CREATED:20260306T153655Z
LAST-MODIFIED:20260306T153655Z
UID:2240-1773770400-1773788400@lanativa.ch
SUMMARY:La Noche Magica - Equinoxe de printemps
DESCRIPTION:La Noche Mágica 🔮✨\, c’est « THE » soirée ésotérique emblématique de La Nativa. On fête ce soir l’édition 159 — et elle s’adapte au nouveau concept de La Nativa (La Maison d’Évènements) pour devenir encore plus puissante et impactante ! \nUn rendez-vous devenu culte pour toutes celles et ceux qui aiment explorer l’invisible\, poser des questions profondes et comprendre un peu mieux les mouvements subtils qui nous traversent… et qui parfois nous secouent bien comme il faut 🌿 \nLe mardi 17 mars\, nous entrons dans une édition spéciale placée sous le signe de l’Équinoxe de Printemps 🌸🌞 \nNous sommes officiellement en train de basculer vers une nouvelle saison. Une période de transition. Une période de renouveau. Une période d’éveil. Une période où la nature se réveille\, où la lumière reprend ses droits\, où quelque chose en nous aussi se remet en mouvement. \nUne période où ça fleurit. Où ça s’ouvre. Où ça recommence. \nMais concrètement… qu’est-ce que cela signifie pour nous\, petits humains sur cette terre ? 🌍 \nQu’est-ce qui se joue énergétiquement en ce moment ? Quelles énergies sont en transition ? Comment les planètes s’alignent avec cette bascule printanière ? 🌙 \nOuverture des portes à 18h 🕯️ La soirée commencera à 18h30 par une interlude-conférence pour poser le cadre : comprendre cette nouvelle dynamique\, cette énergie de transition\, cette vibration qui dit « réveille-toi » même quand tu hibernes encore 🎤🌸 \nPuis place aux séances individuelles. \n🔮 Les magiciens du soir : \n🃏 Jean-Philippe — Tarot Il nous guidera à travers les cartes du moment pour décrypter les messages de cette saison printanière. → @lecerfclef \n🪐 Juliette — Astrologie Elle nous parlera de ce que le ciel nous raconte en ce moment et comment les planètes s’alignent avec cette bascule printanière. → @juliette_prd.n \n🌿 Ophélie — Huiles essentielles Elle nous parlera des huiles essentielles à adopter en ce moment où la nature se réveille\, où les fleurs s’épanouissent et où les pollens sont en plein essor. → @dhotelia \nTrois approches\, trois univers\, une même invitation : te reconnecter à toi-même et à ce qui veut naître en toi 🌱 \nLes séances durent 15 minutes et sont au prix de 20 CHF\, à régler directement auprès des magiciens. Ce sera l’occasion de poser toutes tes questions en lien avec cette saison\, ces énergies en mouvement\, et ce que tout cela vient réveiller dans ta vie. Amour ? Santé ? Projets ? Grand élan intérieur ? \nOn va regarder ça ensemble 🔮 \n  \nInfos pratiques  \n📍 Mardi 17 mars  \n🕕 Ouverture des portes à 18h  \n🎟️ 25 CHF (une boisson incluse) — entrée à payer sur place  \n🚪 Pas de réservation — premier arrivé\, premier servi  \n🔮 Séances individuelles : 15 minutes — 20 CHF (paiement direct aux magiciens) \n 🎤 Interlude-conférence à 18h30 \n  \nEt comme toujours\, l’ambiance sera chaleureuse\, intime\, presque hors du temps 🕯️✨ On se retrouve dans cette bulle un peu suspendue où les discussions deviennent profondes\, où les regards brillent\, où les prises de conscience arrivent sans prévenir. \nViens avec tes copines. Boire des spritz à la rose (je suis désolée mais ça reste quand même mon meilleur cocktail 🌹🍹). Ouvrir tes perceptions\, élargir tes horizons\, te laisser surprendre par ce que le printemps vient allumer en toi. Et repartir avec des clés concrètes pour naviguer cette nouvelle saison comme une queen du renouveau 🌸👑 \nUne soirée pour comprendre. Pour ressentir. Pour activer. Pour avancer avec l’énergie de l’équinoxe 🌞🌸✨ \nBisous\, Laura 💋 \n 
URL:https://lanativa.ch/event/la-noche-magica-equinoxe-de-printemps/
LOCATION:La Nativa\, Rue Marguerite-Dellenbach 5\, Geneva\, Canton de Genève\, 1205\, Switzerland
CATEGORIES:Spiritualité
ATTACH;FMTTYPE=image/jpeg:https://lanativa.ch/wp-content/uploads/2026/03/Banner-event-1.jpg
ORGANIZER;CN="Laura Febo":MAILTO:hola@lanativa.ch
END:VEVENT
BEGIN:VEVENT
DTSTART;TZID=Europe/Zurich:20260331T180000
DTEND;TZID=Europe/Zurich:20260331T230000
DTSTAMP:20260421T231025
CREATED:20260314T213038Z
LAST-MODIFIED:20260314T213038Z
UID:2358-1774980000-1774998000@lanativa.ch
SUMMARY:160e Noche Mágica: Résurrection — Meurs. Renaît. Recommence. 🔮✨
DESCRIPTION:Les mardis\, La Nativa devient autre chose. Les lumières changent. L’ambiance se pose. Et on entre ensemble dans un espace un peu suspendu — celui de La Noche Mágica\, notre soirée ésotérique mensuelle où on explore l’invisible\, le subtil\, ce qui se passe au-delà de ce qu’on voit. \nÀ chaque édition\, un thème. À chaque thème\, une invitation à approfondir sa connaissance des mouvements astrologiques\, du monde spirituel\, des énergies qui nous traversent. Parce que la connaissance\, c’est la clé de tout. Plus on comprend ce qui est en jeu\, plus on est capable de sentir ce qui est juste pour soi. \nEt c’est exactement ça\, le cœur de ces soirées : apprendre ensemble. Se connecter à son instinct. Se rapprocher toujours plus de soi-même. Parce qu’à la fin\, notre plus grande responsabilité sur cette terre\, c’est de prendre soin de nous-mêmes et d’être le plus aligné possible dans notre incarnation. \nUne chose importante : on n’est pas là pour des solutions clés en main. Tu n’es pas là pour que quelqu’un décide à ta place. Le ou la magicienne du soir est là pour te donner des clés — pas des réponses définitives. Tu restes toujours souverain·e de tes décisions. Et n’oublie jamais que tout est toujours en mouvement — un jour tu tires une carte\, l’autre c’en est une autre. Respecte toujours ton intuition. Respecte toujours ton âme. 🌿 \nLa lune est en train de gonfler vers la plénitude — gibbeuse croissante\, elle n’est pas encore pleine mais elle appuie\, elle pousse\, elle veut éclater. Comme une graine qui crève la terre juste avant d’apparaître à la lumière. Le Soleil est en Bélier\, signe du premier feu\, du premier souffle\, du premier « oui » de l’année. Et Saturne avec Neptune sont au tout premier degré du zodiaque — le point où tout recommence\, où tout est encore possible\, où le monde se réinitialise. \nCe soir\, c’est l’édition Pâques. L’édition Résurrection. \nNous sommes dans une période de renaissance. Une période de transformation. Une période de renouveau profond. Une période où quelque chose en nous choisit de mourir pour mieux renaître — où l’ancien laisse place au nouveau\, où ce qui était enfoui remonte à la surface\, où ce qui était endormi se réveille enfin. \nUne période où ça recommence autrement. Où ça renaît. Où ça se réinvente. \nMais concrètement… qu’est-ce que cela signifie pour nous\, petits humains sur cette terre ? 🌍 \nQu’est-ce qui est en train de crever la terre en toi en ce moment ? Qu’est-ce qui pousse encore dans le noir mais sent déjà que la lumière n’est plus très loin ? Qu’est-ce que tu es en train de ressusciter — un projet\, une relation à toi-même\, une partie de toi que tu avais mise de côté ? 🌙 \nOuverture des portes à 18h 🕯️ La soirée commencera à 18h30 par une interlude-conférence de 30 min pour poser le cadre : comprendre cette énergie de transformation profonde\, ce cycle de mort et de renaissance\, cette vibration qui dit « laisse partir — et recommence » 🎤🌸 \nPuis place aux séances individuelles de 15min. Des disciplines variées pour explorer ce temps de renaissance sous différents angles — spirituel\, énergétique\, symbolique. Ce sera l’occasion de poser toutes tes questions en lien avec cette saison\, ces transformations en cours\, et ce que tout cela vient réveiller dans ta vie. Amour ? Santé ? Projets ? Grand élan intérieur ? On va regarder ça ensemble 🔮 \nViens avec tes copines. Boire des spritz à la rose 🌹🍹 — parce que le printemps\, ça se célèbre avec douceur. Laisser mourir ce qui doit mourir. Laisser naître ce qui veut naître. Et repartir avec des clés — pas des réponses — pour traverser cette période de résurrection comme une queen de la renaissance 🌸👑 \nInfos pratiques: \n📍 Mardi 31 mars  \n🕕 Ouverture des portes à 18h  \n🎟️ 25 CHF (une boisson incluse) — entrée à payer sur place  \n🚪 Pas de réservation — premier arrivé\, premier servi  \n🔮 Séances individuelles : 15 min — 20 CHF  \n🎤 Interlude-conférence à 18h30 \nAu plaisir d’explorer le monde invisible avec toi. \nDes Bisous\, Laura 💋
URL:https://lanativa.ch/event/160e-noche-magica-resurrection-meurs-renait-recommence-%f0%9f%94%ae%e2%9c%a8/
LOCATION:La Nativa\, Rue Marguerite-Dellenbach 5\, Geneva\, Canton de Genève\, 1205\, Switzerland
CATEGORIES:Spiritualité
ATTACH;FMTTYPE=image/jpeg:https://lanativa.ch/wp-content/uploads/2026/03/Banner-event-9.jpg
ORGANIZER;CN="Laura Febo":MAILTO:hola@lanativa.ch
END:VEVENT
END:VCALENDAR