BEGIN:VCALENDAR
VERSION:2.0
PRODID:-//La Nativa - ECPv6.15.20//NONSGML v1.0//EN
CALSCALE:GREGORIAN
METHOD:PUBLISH
X-ORIGINAL-URL:https://lanativa.ch
X-WR-CALDESC:Évènements pour La Nativa
REFRESH-INTERVAL;VALUE=DURATION:PT1H
X-Robots-Tag:noindex
X-PUBLISHED-TTL:PT1H
BEGIN:VTIMEZONE
TZID:Europe/Zurich
BEGIN:DAYLIGHT
TZOFFSETFROM:+0100
TZOFFSETTO:+0200
TZNAME:CEST
DTSTART:20250330T010000
END:DAYLIGHT
BEGIN:STANDARD
TZOFFSETFROM:+0200
TZOFFSETTO:+0100
TZNAME:CET
DTSTART:20251026T010000
END:STANDARD
BEGIN:DAYLIGHT
TZOFFSETFROM:+0100
TZOFFSETTO:+0200
TZNAME:CEST
DTSTART:20260329T010000
END:DAYLIGHT
BEGIN:STANDARD
TZOFFSETFROM:+0200
TZOFFSETTO:+0100
TZNAME:CET
DTSTART:20261025T010000
END:STANDARD
BEGIN:DAYLIGHT
TZOFFSETFROM:+0100
TZOFFSETTO:+0200
TZNAME:CEST
DTSTART:20270328T010000
END:DAYLIGHT
BEGIN:STANDARD
TZOFFSETFROM:+0200
TZOFFSETTO:+0100
TZNAME:CET
DTSTART:20271031T010000
END:STANDARD
END:VTIMEZONE
BEGIN:VEVENT
DTSTART;TZID=Europe/Zurich:20260203T183000
DTEND;TZID=Europe/Zurich:20260203T223000
DTSTAMP:20260422T004908
CREATED:20260201T144550Z
LAST-MODIFIED:20260201T144550Z
UID:2009-1770143400-1770157800@lanativa.ch
SUMMARY:03/02 🔮 ⁠⁠La Noche Mágica: soirée ésotérique avec séances individuelles de tarot\, d’astrologie\, de soins énergétiques… 🔮✨
DESCRIPTION:🔮 La Noche Mágica – La soirée phare de La Nativa\, chaque mardi à Genève ! 🔮✨ \nHey toi ! Prêt·e à explorer le monde invisible et à en apprendre plus sur toi-même ? Chaque mardi dès 18h30\, La Nativa ouvre les portes d’un univers mystique avec La Noche Mágica\, notre soirée ésotérique devenue incontournable à Genève. 🌙✨ \n💫 Pourquoi venir ?\nParce que tu vas rencontrer des magiciens triés sur le volet : tarologues\, astrologues\, voyants\, chamanes\, médiums… tous réunis pour t’accompagner avec bienveillance à travers des séances individuelles de 15 minutes à seulement 20 CHF. C’est l’occasion idéale de plonger dans l’univers du tarot\, de poser tes questions et de mieux comprendre ta situation actuelle\, ton énergie ou tes blocages. \n🧭 Notre mission ?\nT’aider à t’éveiller en conscience et à te rapprocher de qui tu es profondément. À La Noche Mágica\, on ne te vend pas du rêve : on t’invite à te reconnecter à toi-même\, dans un espace sécure\, doux et accueillant. \n🔥 Que tu sois curieux·se\, perdu·e\, inspiré·e ou simplement attiré·e par le tarot et les arts mystiques\, c’est le moment parfait pour découvrir tout ça dans un cadre bienveillant et magique. \n🍷 Et pour accompagner ta quête spirituelle ?\nDe délicieuses empanadas maison et des planchettes végétariennes préparées avec amour\, des produits locaux\, le tout livré à vélo… Un festin éthique et savoureux pour nourrir aussi ton corps ! 🌮🥗🚴 \n📍 Comment ça se passe ?\nLes réservations se font directement sur place\, au bar\, selon le principe du premier arrivé\, premier servi. Si vous venez en groupe (6 personnes ou plus)\, pensez à réserver en appelant le 077 944 08 09. \n🌟 Alors\, prêt·e à vivre une soirée magique\, conviviale et pleine de révélations ? Viens avec tes potes\, ta curiosité et ton envie de t’ouvrir à l’invisible. \n🔔 Infos pratiques :\n🗓️ Tous les mardis\n🕕 De 18h30 à 22h30\n📍 La Nativa – 5 Rue Marguerite-Dellenbach\, 1205 Genève\n💵 Tarif : 20 CHF pour 15 minutes de séance\n📧 Réservations sur place \n✨ Prépare ton sourire\, tes questions… et laisse la magie opérer. Tarot\, astrologie\, guidance : à toi de jouer ! \nLa Noche Mágica\nSe rencontrer\, s’inspirer\, s’évader. \nÀ bientôt\, la Team Nativa 🌟✨ \nSe rencontrer\, s’inspirer\, s’évader & s’élever✨🤝🎨 \nÉveiller les consciences à travers l’art\, la spiritualité et l’entrepreneuriat. \n🌸 Suis-nous sur insta (@la_nativa_bar) et inscris-toi à notre newsletter pour ne rien rater des nouveautés et surprises : https://lanativagva.us17.list-manage.com/subscribe?u=ac7ab24cf351e7f49871fe2e4&id=b133455ae8
URL:https://lanativa.ch/event/03-02-%f0%9f%94%ae-%e2%81%a0%e2%81%a0la-noche-magica-soiree-esoterique-avec-seances-individuelles-de-tarot-dastrologie-de-soins-energetiques-%f0%9f%94%ae%e2%9c%a8/
LOCATION:Canton de Genève
CATEGORIES:Spiritualité
ATTACH;FMTTYPE=image/png:https://lanativa.ch/wp-content/uploads/2025/09/1.png
END:VEVENT
BEGIN:VEVENT
DTSTART;TZID=Europe/Zurich:20260210T183000
DTEND;TZID=Europe/Zurich:20260210T223000
DTSTAMP:20260422T004908
CREATED:20260201T144902Z
LAST-MODIFIED:20260201T144902Z
UID:2011-1770748200-1770762600@lanativa.ch
SUMMARY:10/02 | Dernière Noche Magica avec tous les magiciens🔮
DESCRIPTION:Le 10 février\, La Nativa accueille la toute dernière Noche Mágica telle que vous l’avez connue jusqu’à aujourd’hui. Après plus de 150 éditions organisées au fil de quatre ans et demi\, cette soirée ésotérique devenue emblématique s’apprête à tirer sa révérence pour marquer la fin d’un cycle et célébrer tout ce qui a été vécu ensemble. \nCette édition finale se veut exceptionnelle et symbolique. Pour l’occasion\, de nombreux magiciens et praticiens qui ont fait l’âme de la Noche Mágica seront réunis : tarologues\, astrologues et autres guides intuitifs proposeront des séances individuelles\, dans l’esprit intime et bienveillant qui a toujours caractérisé ces soirées. Un moment fort pour remercier celles et ceux qui ont contribué à faire vibrer La Nativa\, mais aussi pour remercier le public fidèle qui a permis à cette aventure d’exister et d’évoluer. \nLes conditions restent volontairement inchangées pour cette dernière : 20 CHF pour 15 minutes de séance\, afin que chacun puisse profiter une dernière fois de l’expérience. Plus qu’une soirée\, c’est un temps de célébration\, de gratitude et de retrouvailles\, avant d’ouvrir un nouveau chapitre. La Nativa poursuivra son chemin en tant que maison d’événements\, avec des formats différents\, toujours portés par l’envie de créer du lien et des expériences uniques. \nCette dernière Noche Mágica est une invitation à se dire merci\, à honorer le chemin parcouru et à fermer cette parenthèse avec sens\, émotion et élégance. \nInfos pratiques\nLieu : La Nativa\nDate : 10 février\nConcept : Dernière Noche Mágica (édition finale)\nSéances individuelles : tarot\, astrologie et pratiques intuitives\nTarif : 20 CHF les 15 minutes\nAmbiance : ésotérique\, chaleureuse et festive \nUne soirée unique\, chargée de sens\, pour célébrer la fin d’un cycle et l’ouverture d’un nouveau.
URL:https://lanativa.ch/event/10-02-derniere-noche-magica-avec-tous-les-magiciens%f0%9f%94%ae/
LOCATION:Canton de Genève
CATEGORIES:Spiritualité
ATTACH;FMTTYPE=image/png:https://lanativa.ch/wp-content/uploads/2026/02/Banner-event-4.png
END:VEVENT
END:VCALENDAR