BEGIN:VCALENDAR
VERSION:2.0
PRODID:-//La Nativa - ECPv6.15.20//NONSGML v1.0//EN
CALSCALE:GREGORIAN
METHOD:PUBLISH
X-ORIGINAL-URL:https://lanativa.ch
X-WR-CALDESC:Évènements pour La Nativa
REFRESH-INTERVAL;VALUE=DURATION:PT1H
X-Robots-Tag:noindex
X-PUBLISHED-TTL:PT1H
BEGIN:VTIMEZONE
TZID:Europe/Zurich
BEGIN:DAYLIGHT
TZOFFSETFROM:+0100
TZOFFSETTO:+0200
TZNAME:CEST
DTSTART:20240331T010000
END:DAYLIGHT
BEGIN:STANDARD
TZOFFSETFROM:+0200
TZOFFSETTO:+0100
TZNAME:CET
DTSTART:20241027T010000
END:STANDARD
BEGIN:DAYLIGHT
TZOFFSETFROM:+0100
TZOFFSETTO:+0200
TZNAME:CEST
DTSTART:20250330T010000
END:DAYLIGHT
BEGIN:STANDARD
TZOFFSETFROM:+0200
TZOFFSETTO:+0100
TZNAME:CET
DTSTART:20251026T010000
END:STANDARD
BEGIN:DAYLIGHT
TZOFFSETFROM:+0100
TZOFFSETTO:+0200
TZNAME:CEST
DTSTART:20260329T010000
END:DAYLIGHT
BEGIN:STANDARD
TZOFFSETFROM:+0200
TZOFFSETTO:+0100
TZNAME:CET
DTSTART:20261025T010000
END:STANDARD
END:VTIMEZONE
BEGIN:VEVENT
DTSTART;TZID=Europe/Zurich:20250326T183000
DTEND;TZID=Europe/Zurich:20250326T183000
DTSTAMP:20260422T192449
CREATED:20250306T154700Z
LAST-MODIFIED:20250306T154815Z
UID:584-1743013800-1743013800@lanativa.ch
SUMMARY:26.03 | ✨ Soirée Magique avec Rémy Marvely à La Nativa ! 🎩
DESCRIPTION:Prêt.e à vivre une soirée hors du commun ? 🔮✨ Rémy Marvely\, magicien et mentaliste parisien\, revient à La Nativa pour une soirée envoûtante où illusion et mystère seront au rendez-vous ! \n📍 Rendez-vous : mercredi 26 mars\, à partir de 18h30 à La Nativa.\n Il passera de table en table pour t’ensorceler avec des tours de magie et de mentalisme bluffants. \n💡 Ce qui t’attend : \n🎩 Magie & Mentalisme en close-up – Rémy Marvely te fera vivre une expérience immersive et interactive avec des illusions qui vont défier ta perception.\n 🍷 Un magicien… et un sommelier ! – Ancien cadre en multinationale\, il a tout quitté pour se consacrer à sa passion : la magie et le vin. Son parcours inspirant ne manquera pas de t’étonner !\n ✨ Un moment unique – Après son spectacle en octobre dernier\, il revient pour une soirée plus intime\, où chaque table aura droit à son moment de magie. \n🌸 Pourquoi participer ? \nParce que la magie\, c’est comme la vie : remplie de surprises ! 🎩 Une occasion parfaite pour s’émerveiller\, partager un bon moment et peut-être même percevoir le monde autrement. \n📅 Infos pratiques : \n📆 Quand ? Mercredi 26 mars\, à partir de 18h30\n 📍 Lieu ? La Nativa\, 5 Rue Marguerite-Dellenbach\, 1205 Genève\n 💰 Tarif ? Entrée libre\, consommation sur place \n📧 Inscriptions :\n Aucune inscription requise\, viens comme tu es\, et laisse-toi surprendre ! \nAlors\, prêt.e à plonger dans un univers où rien n’est impossible ? ✨\n À très vite pour une soirée magique et mémorable ! \nLa Team Nativa 🎩✨\n Se rencontrer\, s’inspirer\, s’évader… et rêver !
URL:https://lanativa.ch/event/26-03-%e2%9c%a8-soiree-magique-avec-remy-marvely-a-la-nativa-%f0%9f%8e%a9/
LOCATION:La Nativa\, Rue Marguerite-Dellenbach 5\, Geneva\, Canton de Genève\, 1205\, Switzerland
CATEGORIES:Divertissement,Spiritualité
ATTACH;FMTTYPE=image/png:https://lanativa.ch/wp-content/uploads/2025/03/13-1.png
END:VEVENT
END:VCALENDAR