BEGIN:VCALENDAR
VERSION:2.0
PRODID:-//La Nativa - ECPv6.15.20//NONSGML v1.0//EN
CALSCALE:GREGORIAN
METHOD:PUBLISH
X-WR-CALNAME:La Nativa
X-ORIGINAL-URL:https://lanativa.ch
X-WR-CALDESC:Évènements pour La Nativa
REFRESH-INTERVAL;VALUE=DURATION:PT1H
X-Robots-Tag:noindex
X-PUBLISHED-TTL:PT1H
BEGIN:VTIMEZONE
TZID:Europe/Zurich
BEGIN:DAYLIGHT
TZOFFSETFROM:+0100
TZOFFSETTO:+0200
TZNAME:CEST
DTSTART:20240331T010000
END:DAYLIGHT
BEGIN:STANDARD
TZOFFSETFROM:+0200
TZOFFSETTO:+0100
TZNAME:CET
DTSTART:20241027T010000
END:STANDARD
BEGIN:DAYLIGHT
TZOFFSETFROM:+0100
TZOFFSETTO:+0200
TZNAME:CEST
DTSTART:20250330T010000
END:DAYLIGHT
BEGIN:STANDARD
TZOFFSETFROM:+0200
TZOFFSETTO:+0100
TZNAME:CET
DTSTART:20251026T010000
END:STANDARD
BEGIN:DAYLIGHT
TZOFFSETFROM:+0100
TZOFFSETTO:+0200
TZNAME:CEST
DTSTART:20260329T010000
END:DAYLIGHT
BEGIN:STANDARD
TZOFFSETFROM:+0200
TZOFFSETTO:+0100
TZNAME:CET
DTSTART:20261025T010000
END:STANDARD
END:VTIMEZONE
BEGIN:VEVENT
DTSTART;TZID=Europe/Zurich:20250226T180000
DTEND;TZID=Europe/Zurich:20250226T210000
DTSTAMP:20260422T205155
CREATED:20250220T175903Z
LAST-MODIFIED:20250226T133541Z
UID:117-1740592800-1740603600@lanativa.ch
SUMMARY:🔮 Conférence : Introduction à l’Alchimie pour le Monde de Demain 🔮✨
DESCRIPTION:Salut à toi ! Curieux.se de découvrir comment l’alchimie\, ce savoir ancestral\, résonne avec la physique quantique\, les neurosciences et les mystères de la conscience ? Alors rejoins-nous le mercredi 26 février à 18h00 à La Nativa pour une conférence fascinante avec Rina Sestito Arce ! 🌟 \n👉 De quoi parle cette conférence ?\n L’alchimie est bien plus qu’une quête de transmutation du plomb en or… C’est une voie initiatique qui utilise la matière comme intercesseur\, ouvrant des portes vers une compréhension profonde de la vie et de l’après-vie. À travers son regard d’historienne et de chercheuse\, Rina Sestito Arce te dévoilera les secrets cachés des hauts-lieux alsaciens comme la cathédrale de Strasbourg et le retable d’Issenheim. Ces chefs-d’œuvre\, bien au-delà de leur beauté artistique\, renferment un enseignement symbolique puissant\, capable de transformer notre perception du monde. \n✨ Qui est Rina Sestito Arce ?\n Licenciée de Lettres à Genève\, Rina s’est formée aux thérapies parallèles et s’est passionnée pour le langage caché des symboles. Autrice de « Gotiquantica » et « Le retable d’Issenheim\, grimoire alchimique pour Compostelle »\, elle partage son savoir à travers des conférences\, son blog esoterina.com et ses films YouTube sur la cathédrale quantique. Son approche mêle rigueur historique et intuition\, offrant une lecture inédite de l’alchimie dans le monde d’aujourd’hui. \n📌 Infos pratiques :\n 🗓️ Mercredi 26 février – 18h00 📅\n 📍 La Nativa : 5 Rue Marguerite-Dellenbach\, 1205 Genève 📍\n 💰 Participation libre selon tes possibilités 💸 \n🔮 Prêt.e à franchir le seuil du Temple ? Cette conférence t’invitera à voir au-delà des apparences et à découvrir un savoir intemporel qui éclaire le monde de demain. \nÀ très vite\,\n 🌙 La Team Nativa ✨\n Se rencontrer\, s’inspirer\, s’évader & s’éveiller \nP.S. Suis-nous sur Insta ! @la_nativa_bar et n’oublie pas de t’inscrire à notre newsletter pour ne rien manquer ! 📩https://lanativagva.us17.list-manage.com/subscribe?u=ac7ab24cf351e7f49871fe2e4&id=b133455ae8
URL:https://lanativa.ch/event/%f0%9f%94%ae-conference-introduction-a-lalchimie-pour-le-monde-de-demain-%f0%9f%94%ae%e2%9c%a8/
LOCATION:La Nativa\, Rue Marguerite-Dellenbach 5\, Geneva\, Canton de Genève\, 1205\, Switzerland
CATEGORIES:Spiritualité
ATTACH;FMTTYPE=image/png:https://lanativa.ch/wp-content/uploads/2025/02/Template-post-.zip-9.png
END:VEVENT
END:VCALENDAR