BEGIN:VCALENDAR
VERSION:2.0
PRODID:-//La Nativa - ECPv6.15.20//NONSGML v1.0//EN
CALSCALE:GREGORIAN
METHOD:PUBLISH
X-WR-CALNAME:La Nativa
X-ORIGINAL-URL:https://lanativa.ch
X-WR-CALDESC:Évènements pour La Nativa
REFRESH-INTERVAL;VALUE=DURATION:PT1H
X-Robots-Tag:noindex
X-PUBLISHED-TTL:PT1H
BEGIN:VTIMEZONE
TZID:Europe/Zurich
BEGIN:DAYLIGHT
TZOFFSETFROM:+0100
TZOFFSETTO:+0200
TZNAME:CEST
DTSTART:20250330T010000
END:DAYLIGHT
BEGIN:STANDARD
TZOFFSETFROM:+0200
TZOFFSETTO:+0100
TZNAME:CET
DTSTART:20251026T010000
END:STANDARD
BEGIN:DAYLIGHT
TZOFFSETFROM:+0100
TZOFFSETTO:+0200
TZNAME:CEST
DTSTART:20260329T010000
END:DAYLIGHT
BEGIN:STANDARD
TZOFFSETFROM:+0200
TZOFFSETTO:+0100
TZNAME:CET
DTSTART:20261025T010000
END:STANDARD
BEGIN:DAYLIGHT
TZOFFSETFROM:+0100
TZOFFSETTO:+0200
TZNAME:CEST
DTSTART:20270328T010000
END:DAYLIGHT
BEGIN:STANDARD
TZOFFSETFROM:+0200
TZOFFSETTO:+0100
TZNAME:CET
DTSTART:20271031T010000
END:STANDARD
END:VTIMEZONE
BEGIN:VEVENT
DTSTART;TZID=Europe/Zurich:20260422T190000
DTEND;TZID=Europe/Zurich:20260422T220000
DTSTAMP:20260422T020806
CREATED:20260117T211141Z
LAST-MODIFIED:20260402T130416Z
UID:1985-1776884400-1776895200@lanativa.ch
SUMMARY:Pub Quiz en équipe - Quiz de culture générale 🍻
DESCRIPTION:La Nativa et Robin te proposent une soirée Pub Quiz aussi fun que pétillante\, idéale pour te challenger\, rire et passer un vrai bon moment en équipe. Entre amis\, en famille ou même pour rencontrer de nouvelles personnes\, viens tester ta culture générale dans une ambiance conviviale et décontractée\, un verre à la main. Le quiz est animé par Robin\, étudiant en biologie et grand amateur des mythiques pub quiz anglais. Inspiré par les soirées qu’il adore en Angleterre\, il importe ce concept en Suisse et fait vibrer La Nativa une fois par mois avec des questions variées\, accessibles et ludiques. Musique\, histoire\, géographie\, culture pop\, logique et surprises seront au rendez-vous : pas besoin d’être un expert\, l’important est de jouer ensemble\, de réfléchir\, de se surprendre et de s’amuser. \nLa soirée est pensée comme un moment de partage et de découverte\, autant pour tester ses connaissances que pour créer des connexions et vivre une expérience collective dans l’atmosphère chaleureuse de La Nativa. Sur place\, une consommation minimum est obligatoire\, et pour accompagner la soirée\, de délicieuses empanadas seront proposées. Si tu souhaites en manger\, merci de le préciser à Robin lors de l’inscription. Nous conseillons en général 2 à 3 empanadas par personne pour bien en profiter. \nInfos pratiques\nLieu : La Nativa\nDate : 22 Avril\nHoraire : 19h\nPrix : 5 CHF par personne\nInscription : obligatoire\, directement en équipe\nContact inscription : Robin – 076 546 56 63 (WhatsApp)\nTu seras ajouté·e à un groupe WhatsApp pour toutes les infos de l’événement\nUne consommation minimum obligatoire sur place \nUne soirée joyeuse\, stimulante et gourmande t’attend — on se réjouit de t’accueillir à La Nativa pour ce Pub Quiz plein de bonne humeur. \nLa Team Nativa & Robin
URL:https://lanativa.ch/event/12-02-%f0%9f%8d%bb-pub-quiz-a-la-nativa-teste-ta-culture-generale-entre-amis/
CATEGORIES:Divertissement
ATTACH;FMTTYPE=image/jpeg:https://lanativa.ch/wp-content/uploads/2026/01/Banner-event-10.jpg
END:VEVENT
END:VCALENDAR