BEGIN:VCALENDAR
VERSION:2.0
PRODID:-//La Nativa - ECPv6.15.20//NONSGML v1.0//EN
CALSCALE:GREGORIAN
METHOD:PUBLISH
X-WR-CALNAME:La Nativa
X-ORIGINAL-URL:https://lanativa.ch
X-WR-CALDESC:Évènements pour La Nativa
REFRESH-INTERVAL;VALUE=DURATION:PT1H
X-Robots-Tag:noindex
X-PUBLISHED-TTL:PT1H
BEGIN:VTIMEZONE
TZID:Europe/Zurich
BEGIN:DAYLIGHT
TZOFFSETFROM:+0100
TZOFFSETTO:+0200
TZNAME:CEST
DTSTART:20250330T010000
END:DAYLIGHT
BEGIN:STANDARD
TZOFFSETFROM:+0200
TZOFFSETTO:+0100
TZNAME:CET
DTSTART:20251026T010000
END:STANDARD
BEGIN:DAYLIGHT
TZOFFSETFROM:+0100
TZOFFSETTO:+0200
TZNAME:CEST
DTSTART:20260329T010000
END:DAYLIGHT
BEGIN:STANDARD
TZOFFSETFROM:+0200
TZOFFSETTO:+0100
TZNAME:CET
DTSTART:20261025T010000
END:STANDARD
BEGIN:DAYLIGHT
TZOFFSETFROM:+0100
TZOFFSETTO:+0200
TZNAME:CEST
DTSTART:20270328T010000
END:DAYLIGHT
BEGIN:STANDARD
TZOFFSETFROM:+0200
TZOFFSETTO:+0100
TZNAME:CET
DTSTART:20271031T010000
END:STANDARD
END:VTIMEZONE
BEGIN:VEVENT
DTSTART;TZID=Europe/Zurich:20260421T180000
DTEND;TZID=Europe/Zurich:20260421T230000
DTSTAMP:20260421T230932
CREATED:20260314T215953Z
LAST-MODIFIED:20260403T130845Z
UID:2377-1776794400-1776812400@lanativa.ch
SUMMARY:161e Noche Mágica — Au Seuil du Changement 🔮✨
DESCRIPTION:La Noche Mágica\, c’est la soirée ésotérique emblématique de La Nativa. Un rendez-vous pour celles et ceux qui ont envie de rencontrer le monde ésotérique et invisible  dans un espace chaleureux et bienveillant\, où tout devient possible. Le temps d’une soirée tu prépares tes questions\, tu te fais tirer le tarot et tu débriefs avec tes copines autour d’un spritz à la rose 🌹✨ \nSur place\, des thérapeutes que j’aime appeler des magiciens t’accueillent pour des séances individuelles de 15 minutes à 20 CHF : tarot\, astrologie\, soins énergétiques… Les pratiques varient à chaque édition\, pour une expérience toujours unique et surprenante. \nTu connais ce moment particulier où tu sens que quelque chose va changer — pas encore\, mais bientôt ? Où tu es encore dans l’ancien\, mais l’ancien ne te tient plus vraiment ? C’est exactement l’énergie de La Noche Mágica ce soir. Et c’est exactement l’énergie de La Noche Mágica en général — cet espace où on apprend à reconnaître et nommer ce qui se passe en nous et autour de nous. \nChaque mois\, on explore un thème différent pour approfondir notre connaissance des mouvements astrologiques\, du monde spirituel\, des forces invisibles qui façonnent nos vies. Parce que la connaissance\, c’est la clé de tout. Plus on comprend les énergies qui sont en jeu\, plus on est capable de sentir ce qui est juste pour soi. \nCes soirées ne sont pas là pour te donner des certitudes — elles sont là pour affiner ton écoute intérieure. Apprendre ensemble. Se connecter à son instinct. Se rapprocher toujours plus de soi-même. Parce qu’à la fin\, notre plus grande responsabilité sur cette terre\, c’est de prendre soin de nous-mêmes et d’être le plus aligné possible. \nLe ou la magicienne du soir est là pour te donner des clés — pas pour décider à ta place. Tu restes toujours souverain·e. Tout est toujours en mouvement — un jour tu tires une carte\, l’autre c’en est une autre. Respecte toujours ton intuition. Respecte toujours ton âme. 🌿 \nCe soir\, on est dans les cinq derniers jours d’Uranus en Taureau — dans moins d’une semaine\, la planète du changement et de l’éveil va basculer définitivement dans un nouveau signe pour les sept prochaines années. On est littéralement au bord du bord. Là où quelque chose finit. Là où quelque chose attend de commencer. La tension du avant/après. L’espace suspendu entre deux mondes. \nTu as déjà ressenti ça ? Ce moment étrange où tu sens que quelque chose est sur le point de changer — dans ta vie\, en toi — mais où tu ne sais pas encore exactement quoi ni comment. Où tu es encore dans l’ancien\, mais l’ancien ne te tient plus vraiment. Où l’horizon tremble un peu. \nC’est exactement l’énergie de ce soir 🌙 \nQu’est-ce que tu es en train de laisser partir\, même sans le savoir encore ? Qu’est-ce que tu sens pointer à l’horizon — encore flou\, encore fragile\, mais là ? Quelle porte es-tu en train de franchir en ce moment dans ta vie ? Amour ? Travail ? Version de toi-même ? 🔮 \nOuverture des portes à 18h 🕯️ La soirée commencera à 18h30 par une interlude-conférence pour poser le cadre : comprendre cette énergie de transition\, ce moment suspendu entre deux cycles\, cette vibration du seuil qui dit « tu n’es déjà plus tout à fait là-bas\, et pas encore tout à fait ici » 🎤 \nPuis place aux séances individuelles. Des disciplines variées pour explorer ce passage sous différents angles — spirituel\, énergétique\, symbolique. Ce sera l’occasion de poser toutes tes questions sur ce qui est en train de se terminer\, ce qui commence\, et comment naviguer ce moment de bascule avec grâce. On va regarder ça ensemble 🔮 \nViens avec tes copines. Boire un pisco sour 🍋✨ — parce que les seuils\, ça pique un peu\, ça surprend\, ça réveille. Et repartir avec des clés — pas des réponses — pour franchir ton seuil comme une queen de la transition 🚪👑 \nInfos Pratiques: \n📍 Mardi 21 avril  \n🕕 Ouverture des portes à 18h \n🎟️ 25 CHF (une boisson incluse) — ticket ci-dessous \n🔮 Séances individuelles : 15 min — 20 CHF (à payer sur place en cash ou twint) \n🎤 Interlude-conférence de 18h30 à 19h00 \n  \nAu plaisir d’explorer le monde invisible avec toi. \nDes bisous\, Laura 💋
URL:https://lanativa.ch/event/161e-noche-magica-au-seuil-du-changement-%f0%9f%94%ae%e2%9c%a8/
LOCATION:La Nativa\, Rue Marguerite-Dellenbach 5\, Geneva\, Canton de Genève\, 1205\, Switzerland
CATEGORIES:Spiritualité
ATTACH;FMTTYPE=image/jpeg:https://lanativa.ch/wp-content/uploads/2026/03/banner-seuil.jpg
ORGANIZER;CN="Laura Febo":MAILTO:hola@lanativa.ch
END:VEVENT
END:VCALENDAR